BEGIN:VCALENDAR
VERSION:2.0
PRODID:SchoolNow
CALSCALE:GREGORIAN
BEGIN:VEVENT
UID:d9718ff2-7f70-11f0-899d-0affe844e53d
DTSTAMP:20250822T155931Z
SUMMARY:School Picture Day
URL;VALUE=URI:https://www.cpapk12.org/calendar/8532174/school-picture-day
DTSTART;VALUE=DATE:20250917
DTEND;VALUE=DATE:20250918
END:VEVENT
END:VCALENDAR
