BEGIN:VCALENDAR
VERSION:2.0
PRODID:SchoolNow
CALSCALE:GREGORIAN
BEGIN:VEVENT
UID:c1730312-1edc-11f0-ab50-0a58a9feac02
DTSTAMP:20260421T132510Z
SUMMARY:Board of Directors Meeting
URL;VALUE=URI:https://www.cpapk12.org/calendar/7977949/board-of-directors-m
 eeting
DTSTART:20260608T230000Z
DTEND:20260609T000000Z
END:VEVENT
END:VCALENDAR
