BEGIN:VCALENDAR
VERSION:2.0
PRODID:SchoolNow
CALSCALE:GREGORIAN
BEGIN:VEVENT
UID:c1730236-1edc-11f0-9611-0a58a9feac02
DTSTAMP:20260421T132510Z
SUMMARY:Last Day for Staff
URL;VALUE=URI:https://www.cpapk12.org/calendar/7977948/last-day-for-staff
DTSTART;VALUE=DATE:20260603
DTEND;VALUE=DATE:20260604
END:VEVENT
END:VCALENDAR
