BEGIN:VCALENDAR
VERSION:2.0
PRODID:SchoolNow
CALSCALE:GREGORIAN
BEGIN:VEVENT
UID:c1730164-1edc-11f0-956e-0a58a9feac02
DTSTAMP:20260421T132510Z
SUMMARY:Semester 2 / Quarter 4 Ends
URL;VALUE=URI:https://www.cpapk12.org/calendar/7977947/semester-2-quarter-4
 -ends
DTSTART;VALUE=DATE:20260602
DTEND;VALUE=DATE:20260603
END:VEVENT
END:VCALENDAR
