BEGIN:VCALENDAR
VERSION:2.0
PRODID:SchoolNow
CALSCALE:GREGORIAN
BEGIN:VEVENT
UID:c173009c-1edc-11f0-9f1a-0a58a9feac02
DTSTAMP:20260421T132510Z
SUMMARY:Last Day of School for Grades 1-11
URL;VALUE=URI:https://www.cpapk12.org/calendar/7977946/last-day-of-school-f
 or-grades-1-11
DTSTART;VALUE=DATE:20260602
DTEND;VALUE=DATE:20260603
END:VEVENT
END:VCALENDAR
