BEGIN:VCALENDAR
VERSION:2.0
PRODID:SchoolNow
CALSCALE:GREGORIAN
BEGIN:VEVENT
UID:c172ffca-1edc-11f0-a169-0a58a9feac02
DTSTAMP:20260421T132510Z
SUMMARY:Senior Graduation
URL;VALUE=URI:https://www.cpapk12.org/calendar/7977945/senior-graduation
DTSTART:20260601T230000Z
DTEND:20260602T000000Z
END:VEVENT
END:VCALENDAR
