BEGIN:VCALENDAR
VERSION:2.0
PRODID:SchoolNow
CALSCALE:GREGORIAN
BEGIN:VEVENT
UID:c172feee-1edc-11f0-a683-0a58a9feac02
DTSTAMP:20260421T132509Z
SUMMARY:Last Day of School for Kindergarten
URL;VALUE=URI:https://www.cpapk12.org/calendar/7977944/last-day-of-school-f
 or-kindergarten
DTSTART;VALUE=DATE:20260601
DTEND;VALUE=DATE:20260602
END:VEVENT
END:VCALENDAR
