BEGIN:VCALENDAR
VERSION:2.0
PRODID:SchoolNow
CALSCALE:GREGORIAN
BEGIN:VEVENT
UID:c172fe12-1edc-11f0-b35d-0a58a9feac02
DTSTAMP:20260421T072010Z
SUMMARY:Last Day of School for PreK & Seniors
URL;VALUE=URI:https://www.cpapk12.org/calendar/7977943/last-day-of-school-f
 or-prek-seniors
DTSTART;VALUE=DATE:20260528
DTEND;VALUE=DATE:20260529
END:VEVENT
END:VCALENDAR
