BEGIN:VCALENDAR
VERSION:2.0
PRODID:SchoolNow
CALSCALE:GREGORIAN
BEGIN:VEVENT
UID:c172fd40-1edc-11f0-b308-0a58a9feac02
DTSTAMP:20260421T072010Z
SUMMARY:No School: Memorial Day
URL;VALUE=URI:https://www.cpapk12.org/calendar/7977942/no-school-memorial-d
 ay
DTSTART;VALUE=DATE:20260525
DTEND;VALUE=DATE:20260526
END:VEVENT
END:VCALENDAR
