BEGIN:VCALENDAR
VERSION:2.0
PRODID:SchoolNow
CALSCALE:GREGORIAN
BEGIN:VEVENT
UID:c172fc6e-1edc-11f0-9462-0a58a9feac02
DTSTAMP:20260421T072010Z
SUMMARY:Annual Meeting & Spring Concert
URL;VALUE=URI:https://www.cpapk12.org/calendar/7977941/annual-meeting-sprin
 g-concert
DTSTART:20260514T230000Z
DTEND:20260515T000000Z
END:VEVENT
END:VCALENDAR
