BEGIN:VCALENDAR
VERSION:2.0
PRODID:SchoolNow
CALSCALE:GREGORIAN
BEGIN:VEVENT
UID:c172faca-1edc-11f0-bb51-0a58a9feac02
DTSTAMP:20260421T072010Z
SUMMARY:Board of Directors Special Meeting
URL;VALUE=URI:https://www.cpapk12.org/calendar/7977939/board-of-directors-s
 pecial-meeting
DTSTART:20260415T230000Z
DTEND:20260416T000000Z
END:VEVENT
END:VCALENDAR
