BEGIN:VCALENDAR
VERSION:2.0
PRODID:SchoolNow
CALSCALE:GREGORIAN
BEGIN:VEVENT
UID:c172f9ee-1edc-11f0-955c-0a58a9feac02
DTSTAMP:20260421T072010Z
SUMMARY:Quarter 4 Begins
URL;VALUE=URI:https://www.cpapk12.org/calendar/7977938/quarter-4-begins
DTSTART;VALUE=DATE:20260406
DTEND;VALUE=DATE:20260407
END:VEVENT
END:VCALENDAR
