BEGIN:VCALENDAR
VERSION:2.0
PRODID:SchoolNow
CALSCALE:GREGORIAN
BEGIN:VEVENT
UID:c172f91c-1edc-11f0-aa8b-0a58a9feac02
DTSTAMP:20260421T072010Z
SUMMARY:No School: Spring Break
URL;VALUE=URI:https://www.cpapk12.org/calendar/7977937/no-school-spring-bre
 ak
DTSTART;VALUE=DATE:20260330
DTEND;VALUE=DATE:20260404
END:VEVENT
END:VCALENDAR
