BEGIN:VCALENDAR
VERSION:2.0
PRODID:SchoolNow
CALSCALE:GREGORIAN
BEGIN:VEVENT
UID:c172f84a-1edc-11f0-b632-0a58a9feac02
DTSTAMP:20260421T072010Z
SUMMARY:Quarter 3 Ends
URL;VALUE=URI:https://www.cpapk12.org/calendar/7977936/quarter-3-ends
DTSTART;VALUE=DATE:20260327
DTEND;VALUE=DATE:20260328
END:VEVENT
END:VCALENDAR
