BEGIN:VCALENDAR
VERSION:2.0
PRODID:SchoolNow
CALSCALE:GREGORIAN
BEGIN:VEVENT
UID:c172f76e-1edc-11f0-a7a4-0a58a9feac02
DTSTAMP:20260421T072010Z
SUMMARY:No School
URL;VALUE=URI:https://www.cpapk12.org/calendar/7977935/no-school
DTSTART;VALUE=DATE:20260313
DTEND;VALUE=DATE:20260314
END:VEVENT
END:VCALENDAR
