BEGIN:VCALENDAR
VERSION:2.0
PRODID:SchoolNow
CALSCALE:GREGORIAN
BEGIN:VEVENT
UID:c172f692-1edc-11f0-96ad-0a58a9feac02
DTSTAMP:20260421T072010Z
SUMMARY:5th-12th Grade Evening Conferences
URL;VALUE=URI:https://www.cpapk12.org/calendar/7977934/5th-12th-grade-eveni
 ng-conferences
DTSTART;VALUE=DATE:20260312
DTEND;VALUE=DATE:20260313
END:VEVENT
END:VCALENDAR
