BEGIN:VCALENDAR
VERSION:2.0
PRODID:SchoolNow
CALSCALE:GREGORIAN
BEGIN:VEVENT
UID:c172f5c0-1edc-11f0-b772-0a58a9feac02
DTSTAMP:20260421T072010Z
SUMMARY:PreK-4 Daytime Conferences
URL;VALUE=URI:https://www.cpapk12.org/calendar/7977933/prek-4-daytime-confe
 rences
DTSTART;VALUE=DATE:20260312
DTEND;VALUE=DATE:20260313
END:VEVENT
END:VCALENDAR
