BEGIN:VCALENDAR
VERSION:2.0
PRODID:SchoolNow
CALSCALE:GREGORIAN
BEGIN:VEVENT
UID:c172f4e4-1edc-11f0-bd03-0a58a9feac02
DTSTAMP:20260421T072010Z
SUMMARY:PreK-12 Evening Conferences
URL;VALUE=URI:https://www.cpapk12.org/calendar/7977932/prek-12-evening-conf
 erences
DTSTART;VALUE=DATE:20260311
DTEND;VALUE=DATE:20260312
END:VEVENT
END:VCALENDAR
