BEGIN:VCALENDAR
VERSION:2.0
PRODID:SchoolNow
CALSCALE:GREGORIAN
BEGIN:VEVENT
UID:c172f408-1edc-11f0-bc7b-0a58a9feac02
DTSTAMP:20260421T072010Z
SUMMARY:Board of Directors Meeting
URL;VALUE=URI:https://www.cpapk12.org/calendar/7977931/board-of-directors-m
 eeting
DTSTART:20260309T230000Z
DTEND:20260310T000000Z
END:VEVENT
END:VCALENDAR
