BEGIN:VCALENDAR
VERSION:2.0
PRODID:SchoolNow
CALSCALE:GREGORIAN
BEGIN:VEVENT
UID:c172f336-1edc-11f0-976a-0a58a9feac02
DTSTAMP:20260421T132510Z
SUMMARY:No School: Presidents' Day
URL;VALUE=URI:https://www.cpapk12.org/calendar/7977930/no-school-presidents
 -day
DTSTART;VALUE=DATE:20260216
DTEND;VALUE=DATE:20260217
END:VEVENT
END:VCALENDAR
