BEGIN:VCALENDAR
VERSION:2.0
PRODID:SchoolNow
CALSCALE:GREGORIAN
BEGIN:VEVENT
UID:c172f264-1edc-11f0-af40-0a58a9feac02
DTSTAMP:20260421T132510Z
SUMMARY:Board of Directors Meeting
URL;VALUE=URI:https://www.cpapk12.org/calendar/7977929/board-of-directors-m
 eeting
DTSTART:20260210T000000Z
DTEND:20260210T010000Z
END:VEVENT
END:VCALENDAR
