BEGIN:VCALENDAR
VERSION:2.0
PRODID:SchoolNow
CALSCALE:GREGORIAN
BEGIN:VEVENT
UID:c172f0c0-1edc-11f0-846f-0a58a9feac02
DTSTAMP:20260421T132510Z
SUMMARY:New Student Lottery
URL;VALUE=URI:https://www.cpapk12.org/calendar/7977927/new-student-lottery
DTSTART;VALUE=DATE:20260202
DTEND;VALUE=DATE:20260203
END:VEVENT
END:VCALENDAR
