BEGIN:VCALENDAR
VERSION:2.0
PRODID:SchoolNow
CALSCALE:GREGORIAN
BEGIN:VEVENT
UID:c172efda-1edc-11f0-98b9-0a58a9feac02
DTSTAMP:20260421T132509Z
SUMMARY:Semester 2 / Quarter 3 Begins
URL;VALUE=URI:https://www.cpapk12.org/calendar/7977926/semester-2-quarter-3
 -begins
DTSTART;VALUE=DATE:20260120
DTEND;VALUE=DATE:20260121
END:VEVENT
END:VCALENDAR
