BEGIN:VCALENDAR
VERSION:2.0
PRODID:SchoolNow
CALSCALE:GREGORIAN
BEGIN:VEVENT
UID:c172eefe-1edc-11f0-96c4-0a58a9feac02
DTSTAMP:20260421T132510Z
SUMMARY:No School: Martin Luther King Jr. Day
URL;VALUE=URI:https://www.cpapk12.org/calendar/7977925/no-school-martin-lut
 her-king-jr-day
DTSTART;VALUE=DATE:20260119
DTEND;VALUE=DATE:20260120
END:VEVENT
END:VCALENDAR
