BEGIN:VCALENDAR
VERSION:2.0
PRODID:SchoolNow
CALSCALE:GREGORIAN
BEGIN:VEVENT
UID:c172ee2c-1edc-11f0-8961-0a58a9feac02
DTSTAMP:20260421T132510Z
SUMMARY:No School: Grading/Reporting
URL;VALUE=URI:https://www.cpapk12.org/calendar/7977924/no-school-grading-re
 porting
DTSTART;VALUE=DATE:20260116
DTEND;VALUE=DATE:20260117
END:VEVENT
END:VCALENDAR
