BEGIN:VCALENDAR
VERSION:2.0
PRODID:SchoolNow
CALSCALE:GREGORIAN
BEGIN:VEVENT
UID:c172ed5a-1edc-11f0-9118-0a58a9feac02
DTSTAMP:20260421T132509Z
SUMMARY:Semester 1 / Quarter 2 Ends
URL;VALUE=URI:https://www.cpapk12.org/calendar/7977923/semester-1-quarter-2
 -ends
DTSTART;VALUE=DATE:20260115
DTEND;VALUE=DATE:20260116
END:VEVENT
END:VCALENDAR
