BEGIN:VCALENDAR
VERSION:2.0
PRODID:SchoolNow
CALSCALE:GREGORIAN
BEGIN:VEVENT
UID:c172ec88-1edc-11f0-91bb-0a58a9feac02
DTSTAMP:20260421T132509Z
SUMMARY:Board of Directors Meeting
URL;VALUE=URI:https://www.cpapk12.org/calendar/7977922/board-of-directors-m
 eeting
DTSTART:20260113T000000Z
DTEND:20260113T010000Z
END:VEVENT
END:VCALENDAR
