BEGIN:VCALENDAR
VERSION:2.0
PRODID:SchoolNow
CALSCALE:GREGORIAN
BEGIN:VEVENT
UID:c172ebac-1edc-11f0-a6ad-0a58a9feac02
DTSTAMP:20260421T132509Z
SUMMARY:No School: Winter Break
URL;VALUE=URI:https://www.cpapk12.org/calendar/7977921/no-school-winter-bre
 ak
DTSTART;VALUE=DATE:20251229
DTEND;VALUE=DATE:20260103
END:VEVENT
END:VCALENDAR
