BEGIN:VCALENDAR
VERSION:2.0
PRODID:SchoolNow
CALSCALE:GREGORIAN
BEGIN:VEVENT
UID:c172eada-1edc-11f0-9285-0a58a9feac02
DTSTAMP:20260421T132510Z
SUMMARY:No School: Winter Break
URL;VALUE=URI:https://www.cpapk12.org/calendar/7977920/no-school-winter-bre
 ak
DTSTART;VALUE=DATE:20251222
DTEND;VALUE=DATE:20251227
END:VEVENT
END:VCALENDAR
