BEGIN:VCALENDAR
VERSION:2.0
PRODID:SchoolNow
CALSCALE:GREGORIAN
BEGIN:VEVENT
UID:c172de1e-1edc-11f0-9ed7-0a58a9feac02
DTSTAMP:20260421T072010Z
SUMMARY:No School PreK-4 ONLY
URL;VALUE=URI:https://www.cpapk12.org/calendar/7977906/no-school-prek-4-onl
 y
DTSTART;VALUE=DATE:20260508
DTEND;VALUE=DATE:20260509
END:VEVENT
END:VCALENDAR
