BEGIN:VCALENDAR
VERSION:2.0
PRODID:SchoolNow
CALSCALE:GREGORIAN
BEGIN:VEVENT
UID:c172dd42-1edc-11f0-a48b-0a58a9feac02
DTSTAMP:20260421T072010Z
SUMMARY:No School PreK-4 ONLY
URL;VALUE=URI:https://www.cpapk12.org/calendar/7977905/no-school-prek-4-onl
 y
DTSTART;VALUE=DATE:20260312
DTEND;VALUE=DATE:20260313
END:VEVENT
END:VCALENDAR
