BEGIN:VCALENDAR
VERSION:2.0
PRODID:SchoolNow
CALSCALE:GREGORIAN
BEGIN:VEVENT
UID:c172d892-1edc-11f0-b2b1-0a58a9feac02
DTSTAMP:20260421T072010Z
SUMMARY:Digital Learning Day Grades 5-12
URL;VALUE=URI:https://www.cpapk12.org/calendar/7977900/digital-learning-day
 -grades-5-12
DTSTART;VALUE=DATE:20260508
DTEND;VALUE=DATE:20260509
END:VEVENT
END:VCALENDAR
