BEGIN:VCALENDAR
VERSION:2.0
PRODID:SchoolNow
CALSCALE:GREGORIAN
BEGIN:VEVENT
UID:c172d7ac-1edc-11f0-a5e5-0a58a9feac02
DTSTAMP:20260421T132509Z
SUMMARY:Digital Learning Day Grades 5-12
URL;VALUE=URI:https://www.cpapk12.org/calendar/7977899/digital-learning-day
 -grades-5-12
DTSTART;VALUE=DATE:20260206
DTEND;VALUE=DATE:20260207
END:VEVENT
END:VCALENDAR
