BEGIN:VCALENDAR
VERSION:2.0
PRODID:SchoolNow
CALSCALE:GREGORIAN
BEGIN:VEVENT
UID:c140142a-1edc-11f0-aed8-0a58a9feac02
DTSTAMP:20260421T132510Z
SUMMARY:Early Release Day (Dismissal at 12:30pm)
URL;VALUE=URI:https://www.cpapk12.org/calendar/7977892/early-release-day-di
 smissal-at-12-30pm
DTSTART;VALUE=DATE:20260109
DTEND;VALUE=DATE:20260110
END:VEVENT
END:VCALENDAR
