BEGIN:VCALENDAR
VERSION:2.0
PRODID:SchoolNow
CALSCALE:GREGORIAN
BEGIN:VEVENT
UID:c1401344-1edc-11f0-8e05-0a58a9feac02
DTSTAMP:20260421T132510Z
SUMMARY:Early Release Day (Dismissal at 12:30pm)
URL;VALUE=URI:https://www.cpapk12.org/calendar/7977891/early-release-day-di
 smissal-at-12-30pm
DTSTART;VALUE=DATE:20260227
DTEND;VALUE=DATE:20260228
END:VEVENT
END:VCALENDAR
