BEGIN:VCALENDAR
VERSION:2.0
PRODID:SchoolNow
CALSCALE:GREGORIAN
BEGIN:VEVENT
UID:c140125e-1edc-11f0-a928-0a58a9feac02
DTSTAMP:20260421T072010Z
SUMMARY:Early Release Day (Dismissal at 12:30pm)
URL;VALUE=URI:https://www.cpapk12.org/calendar/7977890/early-release-day-di
 smissal-at-12-30pm
DTSTART;VALUE=DATE:20260306
DTEND;VALUE=DATE:20260307
END:VEVENT
END:VCALENDAR
