BEGIN:VCALENDAR
VERSION:2.0
PRODID:SchoolNow
CALSCALE:GREGORIAN
BEGIN:VEVENT
UID:c1401178-1edc-11f0-800d-0a58a9feac02
DTSTAMP:20260421T132510Z
SUMMARY:Early Release Day (Dismissal at 12:30pm)
URL;VALUE=URI:https://www.cpapk12.org/calendar/7977889/early-release-day-di
 smissal-at-12-30pm
DTSTART;VALUE=DATE:20260602
DTEND;VALUE=DATE:20260603
END:VEVENT
END:VCALENDAR
