BEGIN:VCALENDAR
VERSION:2.0
PRODID:SchoolNow
CALSCALE:GREGORIAN
BEGIN:VEVENT
UID:c1401038-1edc-11f0-b8d8-0a58a9feac02
DTSTAMP:20260421T132510Z
SUMMARY:CPA Office Closed in Recognition of Juneteenth
URL;VALUE=URI:https://www.cpapk12.org/calendar/7977888/cpa-office-closed-in
 -recognition-of-juneteenth
DTSTART;VALUE=DATE:20260619
DTEND;VALUE=DATE:20260620
END:VEVENT
END:VCALENDAR
